BEGIN:VCALENDAR
VERSION:2.0
BEGIN:VEVENT
URL:https://tickets.oztix.com.au/outlet/event/a2c5aaeb-0336-4b52-a0b8-3d6ea8aab382
DTSTART:20260510T013000Z
DTEND:20260510T013000Z
SUMMARY:Mother's Day Bottomless Brunch
DESCRIPTION:Event details: https://tickets.oztix.com.au/outlet/event/a2c5aaeb-0336-4b52-a0b8-3d6ea8aab382
LOCATION:The Laneway Social, East End (Adelaide, SA)
END:VEVENT
END:VCALENDAR