BEGIN:VCALENDAR
VERSION:2.0
BEGIN:VEVENT
URL:https://tickets.oztix.com.au/outlet/event/a22055fb-cb4c-46d1-8c21-94f4a0d296a9
DTSTART:20260814T120000Z
DTEND:20260814T120000Z
SUMMARY:Montaigne - Glorious Heights 10th Anniversary Tour
DESCRIPTION:Event details: https://tickets.oztix.com.au/outlet/event/a22055fb-cb4c-46d1-8c21-94f4a0d296a9
LOCATION:Rosemount Hotel (North Perth, WA)
END:VEVENT
END:VCALENDAR