BEGIN:VCALENDAR
VERSION:2.0
BEGIN:VEVENT
URL:https://tickets.oztix.com.au/outlet/event/a1452d32-aaff-46d2-813a-fe71e5955ea4
DTSTART:20260523T223000Z
DTEND:20260523T223000Z
SUMMARY:Roma Street Parkland Guided Tours
DESCRIPTION:Event details: https://tickets.oztix.com.au/outlet/event/a1452d32-aaff-46d2-813a-fe71e5955ea4
LOCATION:Roma Street Parkland Hub (Brisbane City, QLD)
END:VEVENT
END:VCALENDAR