BEGIN:VCALENDAR
VERSION:2.0
BEGIN:VEVENT
URL:https://tickets.oztix.com.au/outlet/event/a13c1cfc-5b0f-4317-b9f4-07212d294ee0
DTSTART:20260515T113000Z
DTEND:20260515T113000Z
SUMMARY:Metamourne: Nocturne Minuet EP Launch
DESCRIPTION:Event details: https://tickets.oztix.com.au/outlet/event/a13c1cfc-5b0f-4317-b9f4-07212d294ee0
LOCATION:Lynott's Lounge (Northbridge, WA)
END:VEVENT
END:VCALENDAR