BEGIN:VCALENDAR
VERSION:2.0
BEGIN:VEVENT
URL:https://tickets.oztix.com.au/outlet/event/a13227b2-3d53-4fc8-967d-8ded27c47c10
DTSTART:20260501T100000Z
DTEND:20260501T100000Z
SUMMARY:THE GRUNTLED
DESCRIPTION:Event details: https://tickets.oztix.com.au/outlet/event/a13227b2-3d53-4fc8-967d-8ded27c47c10
LOCATION:The Old Bar (Fitzroy, VIC)
END:VEVENT
END:VCALENDAR