BEGIN:VCALENDAR
VERSION:2.0
BEGIN:VEVENT
URL:https://tickets.oztix.com.au/outlet/event/a01ed9d2-2ce7-4e3a-86a4-2407ccd49040
DTSTART:20261121T090000Z
DTEND:20261121T090000Z
SUMMARY:The Animals (UK) - The House of the Rising Sun Tour 2026
DESCRIPTION:Event details: https://tickets.oztix.com.au/outlet/event/a01ed9d2-2ce7-4e3a-86a4-2407ccd49040
LOCATION:Mansfield Arena (Mansfield, QLD)
END:VEVENT
END:VCALENDAR