BEGIN:VCALENDAR
VERSION:2.0
BEGIN:VEVENT
URL:https://tickets.oztix.com.au/outlet/event/9fc5e80d-271c-4841-aabb-47c4ea342789
DTSTART:20260612T090000Z
DTEND:20260612T090000Z
SUMMARY:Kim Churchill
DESCRIPTION:Event details: https://tickets.oztix.com.au/outlet/event/9fc5e80d-271c-4841-aabb-47c4ea342789
LOCATION:The Brightside (Outdoors) (Fortitude Valley, QLD)
END:VEVENT
END:VCALENDAR