BEGIN:VCALENDAR
VERSION:2.0
BEGIN:VEVENT
URL:https://tickets.oztix.com.au/outlet/event/9f0d66c6-4e6a-439f-92b6-a4a81fffd86f
DTSTART:20260508T093000Z
DTEND:20260508T093000Z
SUMMARY:Lisa Mitchell – NSW Regional Tour
DESCRIPTION:Event details: https://tickets.oztix.com.au/outlet/event/9f0d66c6-4e6a-439f-92b6-a4a81fffd86f
LOCATION:The Baroque Room, Carrington Hotel (Katoomba, NSW)
END:VEVENT
END:VCALENDAR