BEGIN:VCALENDAR
VERSION:2.0
BEGIN:VEVENT
URL:https://tickets.oztix.com.au/outlet/event/9e684804-0a28-47fb-a7a7-9911dd1322e7
DTSTART:20260507T090000Z
DTEND:20260507T090000Z
SUMMARY:Big Black Maria
DESCRIPTION:Event details: https://tickets.oztix.com.au/outlet/event/9e684804-0a28-47fb-a7a7-9911dd1322e7
LOCATION:Shotkickers (Thornbury, VIC)
END:VEVENT
END:VCALENDAR