BEGIN:VCALENDAR
VERSION:2.0
BEGIN:VEVENT
URL:https://tickets.oztix.com.au/outlet/event/9e604584-c29b-45aa-8c17-09d38c9db3bf
DTSTART:20260523T090000Z
DTEND:20260523T090000Z
SUMMARY:Doing it for Dani
DESCRIPTION:Event details: https://tickets.oztix.com.au/outlet/event/9e604584-c29b-45aa-8c17-09d38c9db3bf
LOCATION:Gunners Arms Tavern (Launceston, TAS)
END:VEVENT
END:VCALENDAR