BEGIN:VCALENDAR
VERSION:2.0
BEGIN:VEVENT
URL:https://tickets.oztix.com.au/outlet/event/9e049d58-651e-43e3-869f-c7e7369ad2c6
DTSTART:20260515T090000Z
DTEND:20260515T090000Z
SUMMARY:Loathe (uk)  Australian Tour 2026
DESCRIPTION:Event details: https://tickets.oztix.com.au/outlet/event/9e049d58-651e-43e3-869f-c7e7369ad2c6
LOCATION:King Street Band Room (Newcastle, NSW)
END:VEVENT
END:VCALENDAR