BEGIN:VCALENDAR
VERSION:2.0
BEGIN:VEVENT
URL:https://tickets.oztix.com.au/outlet/event/9cc29cba-e3d4-4b15-bcef-697d9dd77d24
DTSTART:20260430T090000Z
DTEND:20260430T090000Z
SUMMARY:The Big Ol' Wheaty Pub Music Quiz
DESCRIPTION:Event details: https://tickets.oztix.com.au/outlet/event/9cc29cba-e3d4-4b15-bcef-697d9dd77d24
LOCATION:The Wheatsheaf Hotel (Thebarton, SA)
END:VEVENT
END:VCALENDAR