BEGIN:VCALENDAR
VERSION:2.0
BEGIN:VEVENT
URL:https://tickets.oztix.com.au/outlet/event/9c555774-127c-4014-8669-08a71202d887
DTSTART:20260515T100000Z
DTEND:20260515T100000Z
SUMMARY:Liam Watts And The Electric Red Messengers
DESCRIPTION:Event details: https://tickets.oztix.com.au/outlet/event/9c555774-127c-4014-8669-08a71202d887
LOCATION:Cactus Room (Thornbury, VIC)
END:VEVENT
END:VCALENDAR