BEGIN:VCALENDAR
VERSION:2.0
BEGIN:VEVENT
URL:https://tickets.oztix.com.au/outlet/event/9b1dcea3-6969-447c-9937-0fc0d4d10142
DTSTART:20260517T090000Z
DTEND:20260517T090000Z
SUMMARY:Donny Goodman, Stack of Bibles, (Artificial) Nights and Home Ground
DESCRIPTION:Event details: https://tickets.oztix.com.au/outlet/event/9b1dcea3-6969-447c-9937-0fc0d4d10142
LOCATION:Clancy's Fish Pub | Fremantle (Fremantle, WA)
END:VEVENT
END:VCALENDAR