BEGIN:VCALENDAR
VERSION:2.0
BEGIN:VEVENT
URL:https://tickets.oztix.com.au/outlet/event/9a6fe0d2-1d66-4379-9b88-ebad88bc3b7a
DTSTART:20260530T090000Z
DTEND:20260530T090000Z
SUMMARY:BLACK FLAG AUSTRALIAN TOUR
DESCRIPTION:Event details: https://tickets.oztix.com.au/outlet/event/9a6fe0d2-1d66-4379-9b88-ebad88bc3b7a
LOCATION:Crowbar Brisbane (Fortitude Valley, QLD)
END:VEVENT
END:VCALENDAR