BEGIN:VCALENDAR
VERSION:2.0
BEGIN:VEVENT
URL:https://tickets.oztix.com.au/outlet/event/99d016f3-cd7c-4dc8-b82a-6ae40ab46cc3
DTSTART:20260521T090000Z
DTEND:20260521T090000Z
SUMMARY:The Corduroys at Cactus Room
DESCRIPTION:Event details: https://tickets.oztix.com.au/outlet/event/99d016f3-cd7c-4dc8-b82a-6ae40ab46cc3
LOCATION:Cactus Room (Thornbury, VIC)
END:VEVENT
END:VCALENDAR