BEGIN:VCALENDAR
VERSION:2.0
BEGIN:VEVENT
URL:https://tickets.oztix.com.au/outlet/event/991ce668-c984-4997-899b-74c3c26223b5
DTSTART:20260822T083000Z
DTEND:20260822T083000Z
SUMMARY:Hot August Night 10 Piece Band: The Neil Diamond Story
DESCRIPTION:Event details: https://tickets.oztix.com.au/outlet/event/991ce668-c984-4997-899b-74c3c26223b5
LOCATION:Hepburn Palais (Hepburn Springs, VIC)
END:VEVENT
END:VCALENDAR