BEGIN:VCALENDAR
VERSION:2.0
BEGIN:VEVENT
URL:https://tickets.oztix.com.au/outlet/event/9869cb85-b134-4d1f-a091-0806a96d09ba
DTSTART:20260517T040000Z
DTEND:20260517T040000Z
SUMMARY:Waiting for Brenda Single Launch
DESCRIPTION:Event details: https://tickets.oztix.com.au/outlet/event/9869cb85-b134-4d1f-a091-0806a96d09ba
LOCATION:The Junk Bar (New Farm, QLD)
END:VEVENT
END:VCALENDAR