BEGIN:VCALENDAR
VERSION:2.0
BEGIN:VEVENT
URL:https://tickets.oztix.com.au/outlet/event/97e5e19f-fcad-4811-acea-3b49e1cce5cc
DTSTART:20260705T110000Z
DTEND:20260705T110000Z
SUMMARY:The Miseducation of Lauryn Hill Album played in full
DESCRIPTION:Event details: https://tickets.oztix.com.au/outlet/event/97e5e19f-fcad-4811-acea-3b49e1cce5cc
LOCATION:Rosemount Hotel (North Perth, WA)
END:VEVENT
END:VCALENDAR