BEGIN:VCALENDAR
VERSION:2.0
BEGIN:VEVENT
URL:https://tickets.oztix.com.au/outlet/event/97dfe076-e11b-406e-b665-4e60914428ef
DTSTART:20260904T010000Z
DTEND:20260905T090000Z
SUMMARY:2026 Birdsville Races
DESCRIPTION:Event details: https://tickets.oztix.com.au/outlet/event/97dfe076-e11b-406e-b665-4e60914428ef
LOCATION:Birdsville Race Club (Birdsville, QLD)
END:VEVENT
END:VCALENDAR