BEGIN:VCALENDAR
VERSION:2.0
BEGIN:VEVENT
URL:https://tickets.oztix.com.au/outlet/event/97d16e35-f125-4fe0-a52f-2649023fffb5
DTSTART:20260531T070000Z
DTEND:20260531T070000Z
SUMMARY:ENSIFERUM - 'Winter Storm Over Australia' Tour 2026
DESCRIPTION:Event details: https://tickets.oztix.com.au/outlet/event/97d16e35-f125-4fe0-a52f-2649023fffb5
LOCATION:The Baso - Canberra (Belconnen, ACT)
END:VEVENT
END:VCALENDAR