BEGIN:VCALENDAR
VERSION:2.0
BEGIN:VEVENT
URL:https://tickets.oztix.com.au/outlet/event/96fdd514-9e10-44c7-8f98-828741ba86a0
DTSTART:20260621T090000Z
DTEND:20260621T090000Z
SUMMARY:Kim Churchill Tour
DESCRIPTION:Event details: https://tickets.oztix.com.au/outlet/event/96fdd514-9e10-44c7-8f98-828741ba86a0
LOCATION:BOMBIES at Harbord Hotel (Freshwater, NSW)
END:VEVENT
END:VCALENDAR