BEGIN:VCALENDAR
VERSION:2.0
BEGIN:VEVENT
URL:https://tickets.oztix.com.au/outlet/event/96da8af1-a911-43b3-9612-2a749b3e2172
DTSTART:20260426T083000Z
DTEND:20260426T083000Z
SUMMARY:Ishta QLC with In the Caverns of Death, Smut Brigade and Cranes Against Clouds
DESCRIPTION:Event details: https://tickets.oztix.com.au/outlet/event/96da8af1-a911-43b3-9612-2a749b3e2172
LOCATION:The Tote - Upstairs (Collingwood, VIC)
END:VEVENT
END:VCALENDAR