BEGIN:VCALENDAR
VERSION:2.0
BEGIN:VEVENT
URL:https://tickets.oztix.com.au/outlet/event/9692f4f6-3e8b-4867-ba12-1583b5a38f0d
DTSTART:20260516T103000Z
DTEND:20260516T103000Z
SUMMARY:Eskimo Joe (Black Fingernails Red Wine 20th Anniversary Tour)
DESCRIPTION:Event details: https://tickets.oztix.com.au/outlet/event/9692f4f6-3e8b-4867-ba12-1583b5a38f0d
LOCATION:Corner Hotel (Richmond, Melbourne, VIC)
END:VEVENT
END:VCALENDAR