BEGIN:VCALENDAR
VERSION:2.0
BEGIN:VEVENT
URL:https://tickets.oztix.com.au/outlet/event/967e63c2-40cc-4003-8015-ec902e350625
DTSTART:20260505T090000Z
DTEND:20260505T090000Z
SUMMARY:Bowling For Soup + Frank Turner & The Sleeping Souls 'Bowl My Bones' Australian Tour
DESCRIPTION:Event details: https://tickets.oztix.com.au/outlet/event/967e63c2-40cc-4003-8015-ec902e350625
LOCATION:Newcastle University - Bar On The Hill (Newcastle, NSW)
END:VEVENT
END:VCALENDAR