BEGIN:VCALENDAR
VERSION:2.0
BEGIN:VEVENT
URL:https://tickets.oztix.com.au/outlet/event/9614cc5c-7830-4424-951e-3ce4685597c5
DTSTART:20260502T030000Z
DTEND:20260502T030000Z
SUMMARY:MATINEE: Optic
DESCRIPTION:Event details: https://tickets.oztix.com.au/outlet/event/9614cc5c-7830-4424-951e-3ce4685597c5
LOCATION:The Workers Club (Fitzroy, VIC)
END:VEVENT
END:VCALENDAR