BEGIN:VCALENDAR
VERSION:2.0
BEGIN:VEVENT
URL:https://tickets.oztix.com.au/outlet/event/95b6ada2-c6dc-4c7a-a746-21ff6b6b1665
DTSTART:20260605T090000Z
DTEND:20260605T090000Z
SUMMARY:Rowena Wise 'Blood Ties' Single Tour
DESCRIPTION:Event details: https://tickets.oztix.com.au/outlet/event/95b6ada2-c6dc-4c7a-a746-21ff6b6b1665
LOCATION:Low 302 (Surry Hills, NSW)
END:VEVENT
END:VCALENDAR