BEGIN:VCALENDAR
VERSION:2.0
BEGIN:VEVENT
URL:https://tickets.oztix.com.au/outlet/event/9519aa3d-04e9-4a11-b5fc-c16adebd0fae
DTSTART:20260506T080000Z
DTEND:20260506T080000Z
SUMMARY:Love Goes On! An intimate celebration of Grant McLennan
DESCRIPTION:Event details: https://tickets.oztix.com.au/outlet/event/9519aa3d-04e9-4a11-b5fc-c16adebd0fae
LOCATION:The Junk Bar (New Farm, QLD)
END:VEVENT
END:VCALENDAR