BEGIN:VCALENDAR
VERSION:2.0
BEGIN:VEVENT
URL:https://tickets.oztix.com.au/outlet/event/94128800-1978-4dbc-9472-1f4f8ea3a46b
DTSTART:20260531T100000Z
DTEND:20260531T100000Z
SUMMARY:Y.O.G.A. COW*TECH TOUR - BUSSELTON
DESCRIPTION:Event details: https://tickets.oztix.com.au/outlet/event/94128800-1978-4dbc-9472-1f4f8ea3a46b
LOCATION:Shelter Brewing Co.  (Busselton, WA)
END:VEVENT
END:VCALENDAR