BEGIN:VCALENDAR
VERSION:2.0
BEGIN:VEVENT
URL:https://tickets.oztix.com.au/outlet/event/92d7f828-2305-48b6-af71-000af19cbfc2
DTSTART:20261128T083000Z
DTEND:20261128T083000Z
SUMMARY:McCartney Wings Over Australia
DESCRIPTION:Event details: https://tickets.oztix.com.au/outlet/event/92d7f828-2305-48b6-af71-000af19cbfc2
LOCATION:The Oaks Hotel (Albion Park Rail, NSW)
END:VEVENT
END:VCALENDAR