BEGIN:VCALENDAR
VERSION:2.0
BEGIN:VEVENT
URL:https://tickets.oztix.com.au/outlet/event/92cdbfb5-4187-4dd6-8a37-44752ee71969
DTSTART:20260423T090000Z
DTEND:20260423T090000Z
SUMMARY:The Slingers + Gimmy + The Pleasures
DESCRIPTION:Event details: https://tickets.oztix.com.au/outlet/event/92cdbfb5-4187-4dd6-8a37-44752ee71969
LOCATION:The Brightside (Fortitude Valley, QLD)
END:VEVENT
END:VCALENDAR