BEGIN:VCALENDAR
VERSION:2.0
BEGIN:VEVENT
URL:https://tickets.oztix.com.au/outlet/event/925fb6d2-4667-4594-8e2e-2f9e22b29a1c
DTSTART:20260529T093000Z
DTEND:20260529T093000Z
SUMMARY:Complete  - Australian Tour 2026
DESCRIPTION:Event details: https://tickets.oztix.com.au/outlet/event/925fb6d2-4667-4594-8e2e-2f9e22b29a1c
LOCATION:Barwon Club Hotel (South Geelong, VIC)
END:VEVENT
END:VCALENDAR