BEGIN:VCALENDAR
VERSION:2.0
BEGIN:VEVENT
URL:https://tickets.oztix.com.au/outlet/event/920837e7-32c7-46f0-aab1-3915a221354b
DTSTART:20260517T090000Z
DTEND:20260517T090000Z
SUMMARY:Catron Trio w/ Girls Night In + Project Marcel
DESCRIPTION:Event details: https://tickets.oztix.com.au/outlet/event/920837e7-32c7-46f0-aab1-3915a221354b
LOCATION:Bar Open (Fitzroy, VIC)
END:VEVENT
END:VCALENDAR