BEGIN:VCALENDAR
VERSION:2.0
BEGIN:VEVENT
URL:https://tickets.oztix.com.au/outlet/event/91fbbac4-b3a1-4a54-aba0-1b6e2116edd6
DTSTART:20260503T060000Z
DTEND:20260503T060000Z
SUMMARY:The Fox and the Hound (G) PRESENTED IN 35MM FILM
DESCRIPTION:Event details: https://tickets.oztix.com.au/outlet/event/91fbbac4-b3a1-4a54-aba0-1b6e2116edd6
LOCATION:The Revival House Perth (Como, WA)
END:VEVENT
END:VCALENDAR