BEGIN:VCALENDAR
VERSION:2.0
BEGIN:VEVENT
URL:https://tickets.oztix.com.au/outlet/event/916f198f-3d45-4348-b8cf-3d53a60e771f
DTSTART:20260423T090000Z
DTEND:20260423T090000Z
SUMMARY:Estelle Conley & Band - 'Different Kind Of Golden' EP Launch
DESCRIPTION:Event details: https://tickets.oztix.com.au/outlet/event/916f198f-3d45-4348-b8cf-3d53a60e771f
LOCATION:Cactus Room (Thornbury, VIC)
END:VEVENT
END:VCALENDAR