BEGIN:VCALENDAR
VERSION:2.0
BEGIN:VEVENT
URL:https://tickets.oztix.com.au/outlet/event/9110ed0e-a0f4-46ca-b067-123f0e46ec91
DTSTART:20260521T093000Z
DTEND:20260521T093000Z
SUMMARY:Twin Palace
DESCRIPTION:Event details: https://tickets.oztix.com.au/outlet/event/9110ed0e-a0f4-46ca-b067-123f0e46ec91
LOCATION:The Chippo Hotel (Chippendale, NSW)
END:VEVENT
END:VCALENDAR