BEGIN:VCALENDAR
VERSION:2.0
BEGIN:VEVENT
URL:https://tickets.oztix.com.au/outlet/event/910f3ed2-db8e-475c-96f6-514588414300
DTSTART:20260508T100000Z
DTEND:20260508T100000Z
SUMMARY:Mi-Sex 'Space Race 1980' Tour
DESCRIPTION:Event details: https://tickets.oztix.com.au/outlet/event/910f3ed2-db8e-475c-96f6-514588414300
LOCATION:The Stag & Hunter Hotel (Mayfield, NSW)
END:VEVENT
END:VCALENDAR