BEGIN:VCALENDAR
VERSION:2.0
BEGIN:VEVENT
URL:https://tickets.oztix.com.au/outlet/event/908d0c75-7b6d-4907-afc7-4398343242e9
DTSTART:20260423T083000Z
DTEND:20260423T083000Z
SUMMARY:Paint Your Own Tote Bag – Creative Experience
DESCRIPTION:Event details: https://tickets.oztix.com.au/outlet/event/908d0c75-7b6d-4907-afc7-4398343242e9
LOCATION:Miami Marketta, Gold Coast (Miami, QLD)
END:VEVENT
END:VCALENDAR