BEGIN:VCALENDAR
VERSION:2.0
BEGIN:VEVENT
URL:https://tickets.oztix.com.au/outlet/event/9076d71e-6e87-4f9e-a7cd-ee4461652436
DTSTART:20260627T100000Z
DTEND:20260627T100000Z
SUMMARY:Deadshowws - 'You in colour.' Album Tour - Melbourne
DESCRIPTION:Event details: https://tickets.oztix.com.au/outlet/event/9076d71e-6e87-4f9e-a7cd-ee4461652436
LOCATION:Bergy Bandroom (Brunswick, VIC)
END:VEVENT
END:VCALENDAR