BEGIN:VCALENDAR
VERSION:2.0
BEGIN:VEVENT
URL:https://tickets.oztix.com.au/outlet/event/8fbb0a41-d8ef-4aad-a2aa-703de6117ff2
DTSTART:20260424T120000Z
DTEND:20260424T170000Z
SUMMARY:HARDBASS ADIBASS /// UAMEE (((Gadigal///Sydney)))
DESCRIPTION:Event details: https://tickets.oztix.com.au/outlet/event/8fbb0a41-d8ef-4aad-a2aa-703de6117ff2
LOCATION:Secret Venue Sydney CBD (Sydney CBD, NSW)
END:VEVENT
END:VCALENDAR