BEGIN:VCALENDAR
VERSION:2.0
BEGIN:VEVENT
URL:https://tickets.oztix.com.au/outlet/event/8f830188-4022-4876-be8f-88ec56a976ce
DTSTART:20260522T103000Z
DTEND:20260522T103000Z
SUMMARY:NOAH. 'The Homecoming Show' w/ Malaika Mfalme + Sinead BC
DESCRIPTION:Event details: https://tickets.oztix.com.au/outlet/event/8f830188-4022-4876-be8f-88ec56a976ce
LOCATION:Bar Open (Fitzroy, VIC)
END:VEVENT
END:VCALENDAR