BEGIN:VCALENDAR
VERSION:2.0
BEGIN:VEVENT
URL:https://tickets.oztix.com.au/outlet/event/8f3c3369-582b-496d-b442-a7e7c089c013
DTSTART:20260529T093000Z
DTEND:20260529T093000Z
SUMMARY:Bring Back the Kane - 'She Dreams Tourmaline' Single Launch
DESCRIPTION:Event details: https://tickets.oztix.com.au/outlet/event/8f3c3369-582b-496d-b442-a7e7c089c013
LOCATION:The Chippo Hotel (Chippendale, NSW)
END:VEVENT
END:VCALENDAR