BEGIN:VCALENDAR
VERSION:2.0
BEGIN:VEVENT
URL:https://tickets.oztix.com.au/outlet/event/8edee2f0-21c6-4a44-ad12-22da35552c0f
DTSTART:20260618T080000Z
DTEND:20260618T080000Z
SUMMARY:Jess Spina Quartet at The Jazz Sessions
DESCRIPTION:Event details: https://tickets.oztix.com.au/outlet/event/8edee2f0-21c6-4a44-ad12-22da35552c0f
LOCATION:The Presynct (Nambour, QLD)
END:VEVENT
END:VCALENDAR