BEGIN:VCALENDAR
VERSION:2.0
BEGIN:VEVENT
URL:https://tickets.oztix.com.au/outlet/event/8e95a175-1f95-4b05-b8c1-4bcc6ef7dce1
DTSTART:20260530T110000Z
DTEND:20260530T110000Z
SUMMARY:CHRIS CAVILL - EP LAUNCH TOUR
DESCRIPTION:Event details: https://tickets.oztix.com.au/outlet/event/8e95a175-1f95-4b05-b8c1-4bcc6ef7dce1
LOCATION:Westernport Hotel - San Remo (San Remo, VIC)
END:VEVENT
END:VCALENDAR