BEGIN:VCALENDAR
VERSION:2.0
BEGIN:VEVENT
URL:https://tickets.oztix.com.au/outlet/event/8dac3190-4246-44bf-b2be-231f3bc63d7d
DTSTART:20260630T000000Z
DTEND:20260630T000000Z
SUMMARY:GTF 2024 Online Shop
DESCRIPTION:Event details: https://tickets.oztix.com.au/outlet/event/8dac3190-4246-44bf-b2be-231f3bc63d7d
LOCATION:GTF Online Shop (Good Things Festival, QLD)
END:VEVENT
END:VCALENDAR