BEGIN:VCALENDAR
VERSION:2.0
BEGIN:VEVENT
URL:https://tickets.oztix.com.au/outlet/event/8d4f1314-9794-4ade-81bb-c248b8f0554f
DTSTART:20260808T093000Z
DTEND:20260808T093000Z
SUMMARY:CANCELLED - The UK Rod Stewart Show
DESCRIPTION:Event details: https://tickets.oztix.com.au/outlet/event/8d4f1314-9794-4ade-81bb-c248b8f0554f
LOCATION:NEX Wests City (Newcastle West, NSW)
END:VEVENT
END:VCALENDAR