BEGIN:VCALENDAR
VERSION:2.0
BEGIN:VEVENT
URL:https://tickets.oztix.com.au/outlet/event/8d308758-5f3d-4f31-8094-d5a4b0cb264d
DTSTART:20260625T090000Z
DTEND:20260625T090000Z
SUMMARY:Hail The Sun (USA)
DESCRIPTION:Event details: https://tickets.oztix.com.au/outlet/event/8d308758-5f3d-4f31-8094-d5a4b0cb264d
LOCATION:Crowbar Brisbane (Fortitude Valley, QLD)
END:VEVENT
END:VCALENDAR