BEGIN:VCALENDAR
VERSION:2.0
BEGIN:VEVENT
URL:https://tickets.oztix.com.au/outlet/event/8cc8ef11-1625-4750-8843-db49f7fbfeff
DTSTART:20260425T090000Z
DTEND:20260425T090000Z
SUMMARY:MOKOMOKAI International Tour
DESCRIPTION:Event details: https://tickets.oztix.com.au/outlet/event/8cc8ef11-1625-4750-8843-db49f7fbfeff
LOCATION:Crowbar Brisbane (Fortitude Valley, QLD)
END:VEVENT
END:VCALENDAR