BEGIN:VCALENDAR
VERSION:2.0
BEGIN:VEVENT
URL:https://tickets.oztix.com.au/outlet/event/8c979234-f3a4-4e1a-bd1d-6f7a907d22d9
DTSTART:20260605T093000Z
DTEND:20260605T093000Z
SUMMARY:Letters to Lions 'Breaking Bread' AUS Tour
DESCRIPTION:Event details: https://tickets.oztix.com.au/outlet/event/8c979234-f3a4-4e1a-bd1d-6f7a907d22d9
LOCATION:Crowbar Brisbane (Fortitude Valley, QLD)
END:VEVENT
END:VCALENDAR