BEGIN:VCALENDAR
VERSION:2.0
BEGIN:VEVENT
URL:https://tickets.oztix.com.au/outlet/event/8b0c2893-c7a4-433a-ad70-013d13dbb433
DTSTART:20260524T080000Z
DTEND:20260524T080000Z
SUMMARY:Drag Bingo
DESCRIPTION:Event details: https://tickets.oztix.com.au/outlet/event/8b0c2893-c7a4-433a-ad70-013d13dbb433
LOCATION:Distillery Road Market (Eagleby, QLD)
END:VEVENT
END:VCALENDAR